BEGIN:VCALENDAR
VERSION:2.0
PRODID:-//Canadian Taijiquan Federation - ECPv6.15.20//NONSGML v1.0//EN
CALSCALE:GREGORIAN
METHOD:PUBLISH
X-WR-CALNAME:Canadian Taijiquan Federation
X-ORIGINAL-URL:https://canadiantaijiquanfederation.com
X-WR-CALDESC:Events for Canadian Taijiquan Federation
REFRESH-INTERVAL;VALUE=DURATION:PT1H
X-Robots-Tag:noindex
X-PUBLISHED-TTL:PT1H
BEGIN:VTIMEZONE
TZID:America/Toronto
BEGIN:DAYLIGHT
TZOFFSETFROM:-0500
TZOFFSETTO:-0400
TZNAME:EDT
DTSTART:20250309T070000
END:DAYLIGHT
BEGIN:STANDARD
TZOFFSETFROM:-0400
TZOFFSETTO:-0500
TZNAME:EST
DTSTART:20251102T060000
END:STANDARD
BEGIN:DAYLIGHT
TZOFFSETFROM:-0500
TZOFFSETTO:-0400
TZNAME:EDT
DTSTART:20260308T070000
END:DAYLIGHT
BEGIN:STANDARD
TZOFFSETFROM:-0400
TZOFFSETTO:-0500
TZNAME:EST
DTSTART:20261101T060000
END:STANDARD
BEGIN:DAYLIGHT
TZOFFSETFROM:-0500
TZOFFSETTO:-0400
TZNAME:EDT
DTSTART:20270314T070000
END:DAYLIGHT
BEGIN:STANDARD
TZOFFSETFROM:-0400
TZOFFSETTO:-0500
TZNAME:EST
DTSTART:20271107T060000
END:STANDARD
END:VTIMEZONE
BEGIN:VEVENT
DTSTART;TZID=America/Toronto:20260606T100000
DTEND;TZID=America/Toronto:20260606T113000
DTSTAMP:20260421T185444
CREATED:20260408T011206Z
LAST-MODIFIED:20260408T011209Z
UID:978-1780740000-1780745400@canadiantaijiquanfederation.com
SUMMARY:CTF Annual General Meeting
DESCRIPTION:This year the AGM will be held via Zoom.  \n\n\n\nDetails will be sent to members as the date approaches.
URL:https://canadiantaijiquanfederation.com/event/ctf-annual-general-meeting/
END:VEVENT
END:VCALENDAR